BEGIN:VCALENDAR
VERSION:2.0
PRODID:-//New Canaan Republican Town Committee - ECPv6.15.20//NONSGML v1.0//EN
CALSCALE:GREGORIAN
METHOD:PUBLISH
X-WR-CALNAME:New Canaan Republican Town Committee
X-ORIGINAL-URL:https://newcanaanrepublicans.org
X-WR-CALDESC:Events for New Canaan Republican Town Committee
REFRESH-INTERVAL;VALUE=DURATION:PT1H
X-Robots-Tag:noindex
X-PUBLISHED-TTL:PT1H
BEGIN:VTIMEZONE
TZID:America/Halifax
BEGIN:DAYLIGHT
TZOFFSETFROM:-0400
TZOFFSETTO:-0300
TZNAME:ADT
DTSTART:20180311T060000
END:DAYLIGHT
BEGIN:STANDARD
TZOFFSETFROM:-0300
TZOFFSETTO:-0400
TZNAME:AST
DTSTART:20181104T050000
END:STANDARD
BEGIN:DAYLIGHT
TZOFFSETFROM:-0400
TZOFFSETTO:-0300
TZNAME:ADT
DTSTART:20190310T060000
END:DAYLIGHT
BEGIN:STANDARD
TZOFFSETFROM:-0300
TZOFFSETTO:-0400
TZNAME:AST
DTSTART:20191103T050000
END:STANDARD
BEGIN:DAYLIGHT
TZOFFSETFROM:-0400
TZOFFSETTO:-0300
TZNAME:ADT
DTSTART:20200308T060000
END:DAYLIGHT
BEGIN:STANDARD
TZOFFSETFROM:-0300
TZOFFSETTO:-0400
TZNAME:AST
DTSTART:20201101T050000
END:STANDARD
BEGIN:DAYLIGHT
TZOFFSETFROM:-0400
TZOFFSETTO:-0300
TZNAME:ADT
DTSTART:20210314T060000
END:DAYLIGHT
BEGIN:STANDARD
TZOFFSETFROM:-0300
TZOFFSETTO:-0400
TZNAME:AST
DTSTART:20211107T050000
END:STANDARD
BEGIN:DAYLIGHT
TZOFFSETFROM:-0400
TZOFFSETTO:-0300
TZNAME:ADT
DTSTART:20220313T060000
END:DAYLIGHT
BEGIN:STANDARD
TZOFFSETFROM:-0300
TZOFFSETTO:-0400
TZNAME:AST
DTSTART:20221106T050000
END:STANDARD
BEGIN:DAYLIGHT
TZOFFSETFROM:-0400
TZOFFSETTO:-0300
TZNAME:ADT
DTSTART:20230312T060000
END:DAYLIGHT
BEGIN:STANDARD
TZOFFSETFROM:-0300
TZOFFSETTO:-0400
TZNAME:AST
DTSTART:20231105T050000
END:STANDARD
BEGIN:DAYLIGHT
TZOFFSETFROM:-0400
TZOFFSETTO:-0300
TZNAME:ADT
DTSTART:20240310T060000
END:DAYLIGHT
BEGIN:STANDARD
TZOFFSETFROM:-0300
TZOFFSETTO:-0400
TZNAME:AST
DTSTART:20241103T050000
END:STANDARD
BEGIN:DAYLIGHT
TZOFFSETFROM:-0400
TZOFFSETTO:-0300
TZNAME:ADT
DTSTART:20250309T060000
END:DAYLIGHT
BEGIN:STANDARD
TZOFFSETFROM:-0300
TZOFFSETTO:-0400
TZNAME:AST
DTSTART:20251102T050000
END:STANDARD
END:VTIMEZONE
BEGIN:VEVENT
DTSTART;TZID=America/Halifax:20240813T060000
DTEND;TZID=America/Halifax:20240813T200000
DTSTAMP:20260424T132143
CREATED:20240625T200602Z
LAST-MODIFIED:20240625T200602Z
UID:4139-1723528800-1723579200@newcanaanrepublicans.org
SUMMARY:Primary Day - Tuesday\, August 13\, 2024
DESCRIPTION:Come vote in the Republican primary for the 4th Congressional District. Voting takes place from 6 AM – 8 PM.
URL:https://newcanaanrepublicans.org/event/primary-day-tuesday-august-13-2024/
CATEGORIES:Election Day
END:VEVENT
BEGIN:VEVENT
DTSTART;TZID=America/Halifax:20211102T060000
DTEND;TZID=America/Halifax:20211102T200000
DTSTAMP:20260424T132143
CREATED:20210905T001231Z
LAST-MODIFIED:20210905T001318Z
UID:2383-1635832800-1635883200@newcanaanrepublicans.org
SUMMARY:Election Day 2021 - November 2
DESCRIPTION:Come visit the RTC tables in front of NCHS and Saxe and don’t forget to vote!  Voting hours are 6 AM to 8 PM.
URL:https://newcanaanrepublicans.org/event/election-day-2021-november-2/
LOCATION:New Canaan HS and Saxe Middle School
CATEGORIES:Election Day
END:VEVENT
BEGIN:VEVENT
DTSTART;TZID=America/Halifax:20210817T060000
DTEND;TZID=America/Halifax:20210817T200000
DTSTAMP:20260424T132143
CREATED:20210707T002158Z
LAST-MODIFIED:20210828T005041Z
UID:2142-1629180000-1629230400@newcanaanrepublicans.org
SUMMARY:August 17\, 2021 - Special Election for District 36
DESCRIPTION:Due to the resignation of Alex Kasser\, the 36th state senate district had a special election on August 17\, 2021 to fill this vacancy. We are overjoyed to announce that the Republican candidate\, Ryan Fazio\, won the election together with his NC team led by our own Maria Dezse Weingarten who spearheaded the NC grassroots efforts. A change is coming! We worked hard and appreciate your support\, and your votes.  \nA message from Ryan:\n\n\n\n\n\nYesterday\, I was honored to be sworn in as state senator for my home district. I am proud to represent a wonderful community with good people. And while our state faces immense challenges\, I am confident that with a positive change to our state government that Connecticut can succeed in the future like never before.\n\n\nI will always be grateful for the trust that the people of Greenwich\, Stamford\, and New Canaan have placed in me and I will work hard every day to justify it by making our district and state a better place to live\, work\, and raise a family. I am excited for the positive things we can do together and am ready to get to work for our district.\n\n\n\n\n\nCoverage of the swearing-in:\n\n\nhttps://www.greenwichtime.com/…/Republican-Ryan-Fazio…\n\n\nVideo of the swearing-in ceremony and my remarks:\n\n\nhttp://ct-n.com/ondemand.asp?id=18878&jwsource=cl\n\n\n\n\n\n\n \n  \n  \n  \n  \n 
URL:https://newcanaanrepublicans.org/event/august-17-2021-special-election-for-district-36/
LOCATION:New Canaan HS\, 11 Farm\, Road\, CT\, 06840\, United States
CATEGORIES:Election Day
END:VEVENT
BEGIN:VEVENT
DTSTART;TZID=America/Halifax:20201103T060000
DTEND;TZID=America/Halifax:20201103T200000
DTSTAMP:20260424T132143
CREATED:20201109T011522Z
LAST-MODIFIED:20201109T011548Z
UID:1879-1604383200-1604433600@newcanaanrepublicans.org
SUMMARY:Election Day 2020 - November 3
DESCRIPTION:Come visit the RTC tables in front of NCHS and Saxe and don’t forget to vote!  Voting hours are 6 AM to 8 PM.
URL:https://newcanaanrepublicans.org/event/election-day-2020-november-3/
LOCATION:New Canaan HS and Saxe Middle School
CATEGORIES:Election Day
END:VEVENT
BEGIN:VEVENT
DTSTART;VALUE=DATE:20191105
DTEND;VALUE=DATE:20191106
DTSTAMP:20260424T132143
CREATED:20190922T215650Z
LAST-MODIFIED:20191103T191058Z
UID:1649-1572912000-1572998399@newcanaanrepublicans.org
SUMMARY:November 5 - Election Day
DESCRIPTION:Come visit the RTC tables in front of NCHS and Saxe and don’t forget to vote!  Voting hours are 6 AM to 8 PM. \nThe Election Day celebration will be at Baldanza’s starting at 8:15 PM.
URL:https://newcanaanrepublicans.org/event/november-5-election-day/
CATEGORIES:Election Day
END:VEVENT
END:VCALENDAR